BEGIN:VCALENDAR
VERSION:2.0
PRODID:-//enter-kulturregion.de - ECPv6.15.13//NONSGML v1.0//EN
CALSCALE:GREGORIAN
METHOD:PUBLISH
X-WR-CALNAME:enter-kulturregion.de
X-ORIGINAL-URL:https://enter-kulturregion.de
X-WR-CALDESC:Veranstaltungen für enter-kulturregion.de
REFRESH-INTERVAL;VALUE=DURATION:PT1H
X-Robots-Tag:noindex
X-PUBLISHED-TTL:PT1H
BEGIN:VTIMEZONE
TZID:Europe/Berlin
BEGIN:DAYLIGHT
TZOFFSETFROM:+0100
TZOFFSETTO:+0200
TZNAME:CEST
DTSTART:20250330T010000
END:DAYLIGHT
BEGIN:STANDARD
TZOFFSETFROM:+0200
TZOFFSETTO:+0100
TZNAME:CET
DTSTART:20251026T010000
END:STANDARD
BEGIN:DAYLIGHT
TZOFFSETFROM:+0100
TZOFFSETTO:+0200
TZNAME:CEST
DTSTART:20260329T010000
END:DAYLIGHT
BEGIN:STANDARD
TZOFFSETFROM:+0200
TZOFFSETTO:+0100
TZNAME:CET
DTSTART:20261025T010000
END:STANDARD
BEGIN:DAYLIGHT
TZOFFSETFROM:+0100
TZOFFSETTO:+0200
TZNAME:CEST
DTSTART:20270328T010000
END:DAYLIGHT
BEGIN:STANDARD
TZOFFSETFROM:+0200
TZOFFSETTO:+0100
TZNAME:CET
DTSTART:20271031T010000
END:STANDARD
END:VTIMEZONE
BEGIN:VEVENT
DTSTART;TZID=Europe/Berlin:20260304T150000
DTEND;TZID=Europe/Berlin:20260304T190000
DTSTAMP:20260425T170010
CREATED:20260217T110138Z
LAST-MODIFIED:20260218T132800Z
UID:8270-1772636400-1772650800@enter-kulturregion.de
SUMMARY:enter – Akademie: Banner statt Blumen – Workshop & Cafete 
DESCRIPTION:📌 Banner statt Blumen – Workshop & Cafete ☕️\nAm 9. März ist feministischer Kampftag! Um laut und sichtbar auf die Straße zu gehen\, treffen wir uns am 04.03. im Subbotnik zum gemeinsamen Basteln. ✂️ \n🖍️Gestaltet eure eigenen Transparente und Schilder für die Demo. Dazu gibt es vom Subbotnik entspannte Cafete-Vibes zum Vernetzen und Austauschen. \nKommt vorbei\, werdet kreativ und setzt ein Zeichen!\nGetränke sind für die Teilnehmenden natürlich kostenfrei. \nWann: Mi\, 04.03.2026 · 15 – 19:00 Uhr\nWo: 📍Subbotnik | Vettersstraße 34a\, 09126 Chemnitz \n\n 
URL:https://enter-kulturregion.de/event/enter-akademie-banner-statt-blumen-workshop-cafete/
LOCATION:Subbotnik\, Vettersstraße 34a\, Chemnitz\, Sachsen\, 09126\, Germany
CATEGORIES:Chemnitz
END:VEVENT
BEGIN:VEVENT
DTSTART;TZID=Europe/Berlin:20260318T160000
DTEND;TZID=Europe/Berlin:20260318T183000
DTSTAMP:20260425T170010
CREATED:20260123T083706Z
LAST-MODIFIED:20260123T083706Z
UID:8230-1773849600-1773858600@enter-kulturregion.de
SUMMARY:enter the music: Beatmaking Workshop mit Paradox
DESCRIPTION:📌 18.03. – Beatmaking Workshop mit Paradox \nEinführung ins Beatmaking:\nWie Beats entstehen + Basics einer DAW\, um eigene Tracks zu bauen. \nWann:  Fr\, 18.03.2026 · 16 – 18:30 Uhr\nWo: 📍 Jugendclub Compact\, Alfred-Neubert-Str. 9\, 09123 Chemnitz\nMit: Paradox \n 
URL:https://enter-kulturregion.de/event/enter-the-music-beatmaking-workshop-mit-paradox/
LOCATION:Jugendclub Compact\, Alfred-Neubert-Str. 9\, Chemnitz\, Sachsen\, 09123
CATEGORIES:Chemnitz
END:VEVENT
BEGIN:VEVENT
DTSTART;TZID=Europe/Berlin:20260321T140000
DTEND;TZID=Europe/Berlin:20260321T210000
DTSTAMP:20260425T170010
CREATED:20260310T165529Z
LAST-MODIFIED:20260311T114356Z
UID:8307-1774101600-1774126800@enter-kulturregion.de
SUMMARY:Best of Wanderspace 1.0
DESCRIPTION:Schnell vergeht die Zeit\, aber schon ist es wieder soweit. Der Wanderspace verlässt Aue-Bad-Schlema wieder und zieht zur nächsten Station nach Burgstädt. Mit einem Best-of wollen wir die Zeit hier richtig ausklingen lassen!Es erwartet euch eine bunte Mischung aus Druck-Werkstatt und Live-Musik! In unserer Siebdruckwerkstatt könnt ihr eigene Kleidung als Wanderspace-Merch bedrucken lassen.Wir haben ein paar tolle Acts am Start. Wir freuen uns sehr\, dass Nand als Headliner unseren Wanderspace-Abschluss zum Leuchten bringen wird. Gemeinsam mit LucidLavalamb verbindet er Indie-Pop\, Synth-Sounds und Live-DJ-Elemente zu einer energiegeladenen Show\, die zum Tanzen einlädt. Den Einstieg in das Programm geben Viewbox und die Nachwuchs-Brass-Band Blechschaden aus Schwarzenberg. \nWann? Samstag\, 21. März\, 14:00-21:00 Uhr Wo? Wanderspace\, Parkplatz vor der Marktpassage\, 08280 Aue-Bad Schlema \nTIMETABLE auf der Bühne:  \n14:00 Uhr viewbox\n16:00 Uhr Blechschaden\n17:30 Uhr Nand \n19:00 Uhr LucidLavalamb  \nDEN GANZEN TAG:  \nDruck-Werkstatt und Siebdrucken im Workshop-Raum \nWir bedanken uns bei Skaterz für den Support bei Snacks und Getränken. \nIhr wollt keine Infos mehr verpassen und auf dem Laufenden bleiben? Folgt @enter.kulturregion auf Instagram!\nIhr wollt wissen was in Aue weiter passiert? Folgt @kgb.niederschlema auf Instagram! \n……………………………………. \nWas ist der Wanderspace? \nDer Wanderspace ist ein temporärer Experimentier-Ort. Zusammengesetzt aus mehreren umgebauten Seecontainern\, zieht er 2025 – 2027 durch die Kulturregion Chemnitz und macht an mehreren Orten für vier bis sechs Monate Station. Er ist ein Platz zum Arbeiten\, zum Tüfteln\, Basteln\, Musik machen\, Produzieren\, Schrauben\, Siebdrucken\, für Konzerte\, Kultur\, und zum Abhängen. Es wird der Ort\, den ihr daraus macht! Hier könnt ihr mehr zum Wanderspace erfahren.
URL:https://enter-kulturregion.de/event/best-of-wanderspace-1/
LOCATION:Marktpassage\, Bad Schlema
CATEGORIES:Region
ATTACH;FMTTYPE=image/png:https://enter-kulturregion.de/wp-content/uploads/2025/03/Bildschirmfoto-2025-03-17-um-18.04.09.png
END:VEVENT
END:VCALENDAR