BEGIN:VCALENDAR
VERSION:2.0
PRODID:-//enter-kulturregion.de - ECPv6.15.13//NONSGML v1.0//EN
CALSCALE:GREGORIAN
METHOD:PUBLISH
X-WR-CALNAME:enter-kulturregion.de
X-ORIGINAL-URL:https://enter-kulturregion.de
X-WR-CALDESC:Veranstaltungen für enter-kulturregion.de
REFRESH-INTERVAL;VALUE=DURATION:PT1H
X-Robots-Tag:noindex
X-PUBLISHED-TTL:PT1H
BEGIN:VTIMEZONE
TZID:Europe/Berlin
BEGIN:DAYLIGHT
TZOFFSETFROM:+0100
TZOFFSETTO:+0200
TZNAME:CEST
DTSTART:20250330T010000
END:DAYLIGHT
BEGIN:STANDARD
TZOFFSETFROM:+0200
TZOFFSETTO:+0100
TZNAME:CET
DTSTART:20251026T010000
END:STANDARD
BEGIN:DAYLIGHT
TZOFFSETFROM:+0100
TZOFFSETTO:+0200
TZNAME:CEST
DTSTART:20260329T010000
END:DAYLIGHT
BEGIN:STANDARD
TZOFFSETFROM:+0200
TZOFFSETTO:+0100
TZNAME:CET
DTSTART:20261025T010000
END:STANDARD
BEGIN:DAYLIGHT
TZOFFSETFROM:+0100
TZOFFSETTO:+0200
TZNAME:CEST
DTSTART:20270328T010000
END:DAYLIGHT
BEGIN:STANDARD
TZOFFSETFROM:+0200
TZOFFSETTO:+0100
TZNAME:CET
DTSTART:20271031T010000
END:STANDARD
END:VTIMEZONE
BEGIN:VEVENT
DTSTART;TZID=Europe/Berlin:20260425T100000
DTEND;TZID=Europe/Berlin:20260425T170000
DTSTAMP:20260425T135104
CREATED:20260123T123217Z
LAST-MODIFIED:20260420T084925Z
UID:8250-1777111200-1777136400@enter-kulturregion.de
SUMMARY:Urban Art Space: BACK TO REALITY – von der Vision zum Plan
DESCRIPTION:📌 BACK TO REALITY – von der Vision zum Plan \nWas von den Ideen lässt sich wirklich bauen? Gemeinsam machen wir aus Utopien einen konkreten Plan für die Umsetzung vor Ort. Jetzt wird’s real – und du entscheidest mit. \nWann:  Sa\, 25.04.2026 · 10:00 – 17:00 Uhr\nWo: 📍An der Gläss Fabrik\, Bernsdorf/Chemnitz\, Zugang über Reichenhainer Straße
URL:https://enter-kulturregion.de/event/urbanartspace-von-der-vision-zum-plan/
LOCATION:An der Gläss Fabrik\, Bernsdorf/Chemnitz\, Zugang über Reichenhainer Straße\, Bernsdorfer Str. 8\, Chemnitz\, Sachsen\, 09126
CATEGORIES:Chemnitz
END:VEVENT
BEGIN:VEVENT
DTSTART;TZID=Europe/Berlin:20260425T190000
DTEND;TZID=Europe/Berlin:20260425T230000
DTSTAMP:20260425T135104
CREATED:20260408T132610Z
LAST-MODIFIED:20260408T132610Z
UID:8451-1777143600-1777158000@enter-kulturregion.de
SUMMARY:enter THE RING - Wrestling in der Markuskirche
DESCRIPTION:LIVE WRESTLING! IN DER MARKUSKIRCHE. AUF DEM SONNENBERG. IN CHEMNITZ. \n19:00 Uhr Einlass | 19:30 Uhr Beginn \n🥇enter THE RING lädt ein: zum Show-Kampf mit insgesamt siebzehn\, internationalen & deutschlandweiten Profi-Wrestler*innen! Das Besondere: Wir bringen dabei ein richtig breites Spektrum der Wrestling-Szene auf die Bühne\, mit Lucha Libre\, OG Show-Wrestling und Performance. Zusammen mit @jazzygabert und @zelinapower haben wir für euch ein fast zweistündiges Programm auf die Beine gestellt.\nModeration gibt´s auch und wird laufen\, weil von @domixarda vom @kotburschikollektiv und @lokfuehrerandi. \n🌀Als wäre das nicht genug\, haben wir noch Slots für Live-Sparring vom @avanti_gym_chemnitz eingeloggt und das seit dem Kosmos 2025 (fast) legendäre Sockenwrestling mit E-Gitarrensolo von @satana_streetart. Also bringt eure besten Socken\, Erzfeind*innen oder -freund*innen\, euren Beef und ganze Energie mit und steigt selber in den Ring! \n🏆 Das Wichtigste zum Schluss: Das ist nur der Anfang! Wir haben einen Wrestling-Ring bauen lassen. Den ersten in Chemnitz. Warum? Weil wir in Chemnitz mit @athleticsonnenberg und @fablabc eine Wrestling-Schule aufbauen. Wie ihr in den kommenden zwei Jahren bei enter THE RING mitwirken könnt\, erfahrt ihr in den nächsten Posts. Es wird groß! \nMit dabei:\n@tylerwalker_pw\n@illusionist_pw\n@reyrata_pw\n@gavmayhem\n@orlandosilvauma\n@zeritusmary\n@kevin_hartmann_wrestling\n@deathrow_dennis_wrestler\n@its.serenawest\n@torben.sauerland\n@francis.meister \n 
URL:https://enter-kulturregion.de/event/wrestling-markuskirche/
LOCATION:St.Markus-Kirche\, Theodor-Körner-Platz\, Chemnitz\, Theodor-Körner-Platz\, Chemnitz\, Sachsen\, 09130\, Germany
CATEGORIES:Chemnitz
END:VEVENT
BEGIN:VEVENT
DTSTART;TZID=Europe/Berlin:20260429T100000
DTEND;TZID=Europe/Berlin:20260429T170000
DTSTAMP:20260425T135104
CREATED:20260312T153720Z
LAST-MODIFIED:20260424T083106Z
UID:8324-1777456800-1777482000@enter-kulturregion.de
SUMMARY:Workshop: How to KI?
DESCRIPTION:KI ist kein Trend – sie ist ein wichtiges Werkzeug für die Zukunft. Veit Lippmann gibt in diesem intensiven Tagesworkshop tiefere Einblicke\, wie KI unsere Arbeitswelt in der Kultur- und Kreativwirtschaft verändert und wie wir KI gezielt und verantwortungsvoll in unserer täglichen Arbeit einsetzen können. \nNeben praktischen Anwendungen für Text-\, Bild- und Videoerstellung vermittelt der Workshop auch grundlegendes Wissen zu Urheberrecht\, Nutzungsrechten und Compliance beim Einsatz von KI. Gemeinsam schauen wir uns an\, welche rechtlichen Rahmenbedingungen es gibt\, worauf Kreative achten sollten und wie KI-Tools sicher und professionell im eigenen Workflow genutzt werden können. \nIn diesem anwendungsorientierten Workshop wird der effiziente Umgang mit KI direkt trainiert – von der Ideenfindung bis zur Produktion von Inhalten. Es stehen euch zum Workshop Getränke und kleine Snacks zur Verfügung\, bringt aber bitte einen eingenen Laptop mit. \nDu bist zwischen 18 und 29\, dann melde dich an und sei dabei! \nAnmeldung über pretix erforderlich – pretix.eu/enter/enter-Akademie
URL:https://enter-kulturregion.de/event/enter-akademie-ki-fuer-die-kultur-und-kreativwirtschaft-how-to-ki-workshop-fuer-die-kultur-und-kreativwirtschaft/
LOCATION:Lokomov\, Augustusburger Str. 102\, Chemnitz\, 09126
CATEGORIES:Akademie
ATTACH;FMTTYPE=image/png:https://enter-kulturregion.de/wp-content/uploads/2026/03/260213-AKD-Sticker.png
END:VEVENT
BEGIN:VEVENT
DTSTART;VALUE=DATE:20260430
DTEND;VALUE=DATE:20260502
DTSTAMP:20260425T135104
CREATED:20260324T101023Z
LAST-MODIFIED:20260417T132737Z
UID:8345-1777507200-1777679999@enter-kulturregion.de
SUMMARY:Eröffnung Wanderspace in Burgstädt
DESCRIPTION:Der Wanderspace ist Anfang April an seinem zweiten Standort in Burgstädt angekommen. Am 30. April wollen wir ihn gemeinsam mit euch einweihen! Seid gespannt auf ein buntes Programm und kommt vorbei! Die offizielle Begrüßung und symbolische Schlüsselübergabe wird gegen 16 Uhr am Wanderspace auf dem Anger (Burgstädt) stattfinden. Dazu wird auch der nächste Standort des Wanderspace in der Kulturregion Chemnitz ab September 2026 offiziell bekannt gegeben. \nZur Eröffnung wird es ein buntes Programm aus Live Musik der Band Haehle (Mittweida\, Chemnitz)\, Siebdruck und Crazy Ping Pong geben. Auch das Fabmobil ist vor Ort\, hier könnt ihr Tischtenniskellen selber bauen oder mit dem Schneidplotter experimentieren. Es wird einiges zu entdecken geben\, bringt etwas Zeit mit und genießt den Nachmittag zusammen mit euren Freunden. \nAm nächsten Tag\, am Freitag den 1. Mai hat der Wanderspace ebenfalls geöffnet und empfängt ab 13 Uhr mit Kaffee und Kuchen zu einem kleinen Nachbarschaftscafé. Ihr könnt euch entspannt umschauen und den Ort kennenlernen. Im Fabmobil kann der Workshop “Spielfiguren aus dem 3D Drucker” für Menschen von 15-30 Jahren besucht werden. Ohne Vorkenntnisse kann mit einem 3D-Scanner die eigene Person eingescannt und als Spielfigur gedruckt werden oder beliebige Figuren am Computer modelliert werden. Ihr habt Lust beim Workshop dabei zu sein? Hier könnt ihr euch für den Freitag anmelden. \nZur Wanderspace Eröffnung wird auch das Portal eingeweiht. Zwei gelbe Telefonzellen – eine am Wanderspace in Burgstädt und die andere am Haus Arthur in Chemnitz – erlauben Echtzeitkommunikation zwischen zwei Unbekannten.\nFür die Eröffnung am Donnerstag Kollektiv “Young Voices” am Portal in Chemnitz am Wanderspace durchklingen und die Wünsche und Perspektiven von jungen Menschen zum Kosmos Festival 2026 sammeln und später in das offizielle Festivalprogramm einbringen. \nFür das leibliche Wohl während der Veranstaltung ist natürlich gesorgt! \n……………………………………. \nWas ist der Wanderspace? \nDer Wanderspace ist ein temporärer Experimentier-Ort. Zusammengesetzt aus mehreren umgebauten Seecontainern\, zieht er 2025 – 2027 durch die Kulturregion Chemnitz und macht an mehreren Orten für vier bis sechs Monate Station. Er ist ein Platz zum Arbeiten\, zum Tüfteln\, Basteln\, Musik machen\, Produzieren\, Schrauben\, Siebdrucken\, für Konzerte\, Kultur\, und zum Abhängen. Es wird der Ort\, den ihr daraus macht! Hier könnt ihr mehr zum Wanderspace erfahren.
URL:https://enter-kulturregion.de/event/eroeffnung-wanderspace-in-burgstaedt/
LOCATION:Anger\, Burgstädt
CATEGORIES:Region
ATTACH;FMTTYPE=image/png:https://enter-kulturregion.de/wp-content/uploads/2026/03/Wanderspace-Brugstaedt-Grafik1-scaled.png
END:VEVENT
BEGIN:VEVENT
DTSTART;TZID=Europe/Berlin:20260501T130000
DTEND;TZID=Europe/Berlin:20260501T163000
DTSTAMP:20260425T135104
CREATED:20260417T131547Z
LAST-MODIFIED:20260417T131547Z
UID:8473-1777640400-1777653000@enter-kulturregion.de
SUMMARY:Fabmobil Workshop in Burgstädt
DESCRIPTION:Der Wanderspace wird vom 30.4.-1.5. in Burgstädt eröffnet und für diese beiden Tagen steht auch das Fabmobil bereit – hier könnt ihr mit Kreativ-Technologien experimentieren. \nAm Freitag den 1. Mai findet im Fabmobil der Workshop “Spielfiguren aus dem 3D Drucker” für Menschen von 15-30 Jahren statt. Ohne Vorkenntnisse kann mit einem 3D-Scanner die eigene Person eingescannt und als Spielfigur gedruckt werden oder beliebige Figuren am Computer modelliert werden. Ihr habt Lust beim Workshop dabei zu sein? Hier könnt ihr euch für den Freitag anmelden. \nParallel gibt es Kaffee und Kuchen für die Nachbarschaft. \n……………………………………. \nWas ist der Wanderspace? \nDer Wanderspace ist ein temporärer Experimentier-Ort. Zusammengesetzt aus mehreren umgebauten Seecontainern\, zieht er 2025 – 2027 durch die Kulturregion Chemnitz und macht an mehreren Orten für vier bis sechs Monate Station. Er ist ein Platz zum Arbeiten\, zum Tüfteln\, Basteln\, Musik machen\, Produzieren\, Schrauben\, Siebdrucken\, für Konzerte\, Kultur\, und zum Abhängen. Es wird der Ort\, den ihr daraus macht! Hier könnt ihr mehr zum Wanderspace erfahren.
URL:https://enter-kulturregion.de/event/fabmobil-workshop-burgstaedt/
LOCATION:Anger\, Burgstädt
CATEGORIES:Region
ATTACH;FMTTYPE=image/png:https://enter-kulturregion.de/wp-content/uploads/2026/04/FM-EMOJI_Telegram51.png
END:VEVENT
BEGIN:VEVENT
DTSTART;TZID=Europe/Berlin:20260509T100000
DTEND;TZID=Europe/Berlin:20260515T180000
DTSTAMP:20260425T135104
CREATED:20260123T124047Z
LAST-MODIFIED:20260420T085017Z
UID:8253-1778320800-1778868000@enter-kulturregion.de
SUMMARY:Urban Art Space: HANDS ON – Bauwoche
DESCRIPTION:📌 HANDS ON – Bauwoche Urban Art Space \nEine Woche DIY: bauen\, schrauben\, gestalten. Wir schaffen gemeinsam einen neuen Treffpunkt für Urban Art. Bring dich und deine Friends mit und hinterlasst zusammen Spuren! \nGleichzeitig entsteht auf dem Gelände ein kollaboratives Muralüber mehrere Fassaden (11.-19.05.26). Mit dabei sind internationale Street-Art-Künstler:innen wie VIDEO&SCKRE sowie MadC. \nWann:  Sa\, 09.05.2026 – 15.05.26 · täglich 10 – 18:00 Uhr \nWo: 📍An der Gläss Fabrik\, Bernsdorf/Chemnitz\, Zugang über Reichenhainer Straße
URL:https://enter-kulturregion.de/event/bauwoche/
LOCATION:An der Gläss Fabrik\, Bernsdorf/Chemnitz\, Zugang über Reichenhainer Straße\, Bernsdorfer Str. 8\, Chemnitz\, Sachsen\, 09126
CATEGORIES:Chemnitz
END:VEVENT
BEGIN:VEVENT
DTSTART;TZID=Europe/Berlin:20260516T160000
DTEND;TZID=Europe/Berlin:20260516T235900
DTSTAMP:20260425T135104
CREATED:20260123T124258Z
LAST-MODIFIED:20260420T085105Z
UID:8255-1778947200-1778975940@enter-kulturregion.de
SUMMARY:Urban Art Space: OPENING
DESCRIPTION:📌 URBAN ART SPACE OPENING – Feierliche Eröffnung! \nAus Ideen wird Realität: Wir eröffnen den Urban Art Space! Komm vorbei\, feier mit uns und entdecke\, was wir in der Bauwoche gemeinsam geschaffen haben. \nWann:  Sa\, 16.05.2026 · ab 16:00 Uhr\nWo: 📍An der Gläss Fabrik\, Bernsdorf/Chemnitz\, Zugang über Reichenhainer Straße
URL:https://enter-kulturregion.de/event/uas-opening/
LOCATION:An der Gläss Fabrik\, Bernsdorf/Chemnitz\, Zugang über Reichenhainer Straße\, Bernsdorfer Str. 8\, Chemnitz\, Sachsen\, 09126
CATEGORIES:Chemnitz
END:VEVENT
BEGIN:VEVENT
DTSTART;TZID=Europe/Berlin:20260520T160000
DTEND;TZID=Europe/Berlin:20260520T183000
DTSTAMP:20260425T135104
CREATED:20260123T084415Z
LAST-MODIFIED:20260123T090514Z
UID:8234-1779292800-1779301800@enter-kulturregion.de
SUMMARY:enter the music: Workshop mit Selbstgebaute Musik
DESCRIPTION:📌 Workshop: Selbstgebaute Musik \nNeue Klänge entdecken und am Ende ein eigenes kleines Instrument bauen. \nWann:  Mi\, 15.04.2026 · 16 – 18:30 Uhr\nWo: 📍 Jugendclub Compact\, Alfred-Neubert-Str. 9\, 09123 Chemnitz\nMit: Selbstgebaute Musik \n 
URL:https://enter-kulturregion.de/event/enter-the-music-selbstgebaute-musik-workshop/
LOCATION:Jugendclub Compact\, Alfred-Neubert-Str. 9\, Chemnitz\, Sachsen\, 09123
CATEGORIES:Chemnitz
END:VEVENT
BEGIN:VEVENT
DTSTART;TZID=Europe/Berlin:20260527T170000
DTEND;TZID=Europe/Berlin:20260527T183000
DTSTAMP:20260425T135104
CREATED:20260423T074810Z
LAST-MODIFIED:20260424T082945Z
UID:8505-1779901200-1779906600@enter-kulturregion.de
SUMMARY:Community Event: Yoga im Club #2
DESCRIPTION:📌 Your dancefloor is your yoga studio  \nHabt ihr den transit Clubfloor schon einmal zum Yoga erlebt? Jetzt ist eure Chance! Wir laden euch zu einem offenen Community-Yoga-Event im Club ein. Freut euch auf entspannte Übungen\, Atemtechniken und fließende Bewegungen auf der Tanzfläche mit Marlen Einhorn von Yoga Elements. Macht mit\, ganz ohne Vorkenntnisse.\nKommt gerne 10 – 15 Minuten früher und bringt eure Yogamatten mit! \nAnmeldung über pretix erforderlich pretix.eu/enter/yogaimclub2
URL:https://enter-kulturregion.de/event/yoga-im-club-2/
LOCATION:transit\, Reichenhainer Str. 1\, Chemnitz\, Sachsen\, 09111\, Germany
CATEGORIES:Akademie
ATTACH;FMTTYPE=image/png:https://enter-kulturregion.de/wp-content/uploads/2026/03/260213-AKD-Sticker.png
END:VEVENT
BEGIN:VEVENT
DTSTART;TZID=Europe/Berlin:20260530T100000
DTEND;TZID=Europe/Berlin:20260530T170000
DTSTAMP:20260425T135104
CREATED:20260401T094429Z
LAST-MODIFIED:20260424T081653Z
UID:8401-1780135200-1780160400@enter-kulturregion.de
SUMMARY:Workshop: How to App...?
DESCRIPTION:Frei (Anmeldung über pretix erforderlich)  – https://pretix.eu/enter/howtoapp/ \n📌 How to App…? Ein Workshop für junge Kultur- und Kreativwirtschaft \nEigene App an einem Tag entwickeln? Easy! In diesem Workshop zeigt dir IT-Beraterin Lena Ihle\, wie du mit KI-Tools in kürzester Zeit deine eigene App entwickeln kannst – ganz ohne Vorkenntnisse. Am Ende des Tages hast du deine eigene kleine\, funktionierende App gebaut und das Wissen erlernt\, wie du KI-Tools kreativ in der Produktentwicklung und für deine Projekte einsetzen kannst. Dabei geht es nicht um komplizierten Code\, sondern um deine Ideen und darum\, sie mit den richtigen Methoden zum Leben zu erwecken.\nEs stehen Getränke und kleine Snacks zur Verfügung. Bitte bringe folgendes mit: \n\nerste (grobe) App-Idee\neigener Laptop (alternativ auch Tablet) mit vorher installiertem Chrome oder Safari Browser und Ladekabel\nLogin-Daten zu deinem Google Account\nbei Bedarf ein Ladekabel für dein Handy\n\nDer Workshop richtet sich an junge Kultur- und Kreativschaffende in Chemnitz und der Region. Sowohl Einzelpersonen als auch Teams sind willkommen. Du bist zwischen 18 und 29 Jahre alt\, dann melde dich an und sei dabei! \nAnmeldung über pretix erforderlich – pretix.eu/enter/howtoapp/ 
URL:https://enter-kulturregion.de/event/how-to-app/
LOCATION:Stadtwirtschaft\, Jakobstraße 46\, Chemnitz\, Sachsen\, 09130
CATEGORIES:Akademie
ATTACH;FMTTYPE=image/png:https://enter-kulturregion.de/wp-content/uploads/2026/03/260213-AKD-Sticker.png
END:VEVENT
BEGIN:VEVENT
DTSTART;TZID=Europe/Berlin:20260530T130000
DTEND;TZID=Europe/Berlin:20260530T210000
DTSTAMP:20260425T135104
CREATED:20260424T101707Z
LAST-MODIFIED:20260424T101707Z
UID:8524-1780146000-1780174800@enter-kulturregion.de
SUMMARY:Dayrave mit Uzumaki Soundsystem
DESCRIPTION:Gemeinsam mit euch wollen wir ein Community Soundsystem für Chemnitz bauen. Um euch einen Eindruck zu geben\, laden wir das Uzumaki and Friends Soundsystem aus Dresden ein. Unter freiem Himmel kreieren wir mit und für euch einen offenen Raum für Bass\, Begegnung und Bewegung.
URL:https://enter-kulturregion.de/event/dayrave-uzumaki/
LOCATION:Spinnerei\, Altchemnitzer Str. 5a\, 09120 Chemnitz\, Chemnitz\, Sachsen\, 09120\, Germany
CATEGORIES:Chemnitz
END:VEVENT
BEGIN:VEVENT
DTSTART;TZID=Europe/Berlin:20260617T160000
DTEND;TZID=Europe/Berlin:20260617T183000
DTSTAMP:20260425T135104
CREATED:20260123T090207Z
LAST-MODIFIED:20260123T090423Z
UID:8238-1781712000-1781721000@enter-kulturregion.de
SUMMARY:enter the music: Workshop und Special Event
DESCRIPTION:📌 Workshop + Special Event\n \nKreativer Workshop mit besonderem Extra 🔥\nWeitere Infos folgen! \nWann: Mi\, 17.06.2026 · 16 – 18:30 Uhr\nWo: 📍 Jugendclub Compact\, Alfred-Neubert-Str. 9\, 09123 Chemnitz
URL:https://enter-kulturregion.de/event/enter-the-music-workshop-mit-selbstgebaute-musik/
LOCATION:Jugendclub Compact\, Alfred-Neubert-Str. 9\, Chemnitz\, Sachsen\, 09123
CATEGORIES:Chemnitz
END:VEVENT
BEGIN:VEVENT
DTSTART;VALUE=DATE:20260622
DTEND;VALUE=DATE:20260627
DTSTAMP:20260425T135104
CREATED:20260325T131246Z
LAST-MODIFIED:20260325T131323Z
UID:8374-1782086400-1782518399@enter-kulturregion.de
SUMMARY:Kulturversuch X Marienberg X Enter
DESCRIPTION:Der Kulturversuch in Marienberg ist ein gesamtschulisches Projekt und wird jedes Jahr in der vorletzten Schulwoche durchgeführt. In ca. 25 bis 30 klassenübergreifenden Gruppen wird sich mit einem übergeordneten Thema unter verschiedensten Gesichtspunkten beschäftigt. Enter/Region begleitet in diesem Jahr drei Workshops innerhalb der Projektwoche. Mit künstlerischen Methoden wollen wir junge Positionen sichtbar machen. Die Jugendlichen lernen den Wanderspace als Kulturort kennen und experimentieren mit unterschiedlichen Techniken um ihre Positionen direkt auf dem Marktplatz in Marienberg sichtbar zu machen. \nAm Freitag der Projektwoche\, den 26. Juni\, werden alle Ergebnisse in einer öffentlichen Veranstaltung präsentiert! \nKI-Hacking: Ihr beschäftigt euch mit den Grundlagen der Künstlichen Intelligenz und arbeitet mit verschiedenen KI-Tools zur Bildgenerierung. Durch das Formulieren und Anpassen von Prompts erstellt ihr eigene Bilder und untersucht\, wie Marienberg in Zukunft aussehen könnte. Dabei probiert ihr unterschiedliche Programme aus\, vergleicht ihre Funktionen und kombiniert ihre Möglichkeiten für eigene Projekte zwischen realen Motiven und digital erzeugten Szenarien. Mit AR- und VR-Technologien werden die entstandenen Arbeiten in einem digitalen Raum präsentiert und für andere erlebbar gemacht. \nStadt-Stempel: In der Woche experimentiert ihr mit verschiedenen Drucktechniken – vom klassischen Stempeldruck bis zu Stencils aus dem Lasercutter im Fabmobil. Ihr entwickelt eigene Formen\, testet Materialien und probiert aus\, wie sich Muster\, Schriftzüge und urbane Symbole kreativ einsetzen lassen. Dabei findet ihr Motive und Inspiration direkt auf der Straße: Fassaden\, Schilder\, Strukturen\, Steine oder kleine Details am Wegesrand werden zur Vorlage für eure eigenen Designs.\nIm Fabmobil arbeitet ihr außerdem mit digitalen Werkzeugen wie Lasercutter und 3D-Drucker. Ihr gestaltet Stempelplatten\, Schablonen oder sogar kleine Streetart-Elemente im 3D-Druck und verbindet analoge und digitale Techniken miteinander. \nMarktplatz Mini-Golf: Der Marktplatz wird zur Spielwiese – ihr plant und baut eure eigene Mini-Golf-Bahn.  Aus Holz\, Upcyclingmaterialien und Fundstücken entwickelt ihr kreative Hindernisse und spielerische Konstruktionen. Dabei arbeitet ihr mit Handwerkzeugen\, sägt\, schraubt\, schleift und gestaltet eure Bahn ganz individuell. Ob schräge Rampen\, bewegliche Elemente oder überraschende Umwege – eurer Kreativität sind keine Grenzen gesetzt.\nIm Fabmobil nutzt ihr zusätzlich digitale Technik wie Lasercutter und 3D-Drucker\, um präzise Bauteile\, dekorative Elemente oder besondere Spielfiguren herzustellen.
URL:https://enter-kulturregion.de/event/kulturversuch-marienberg/
LOCATION:Marktplatz\, Marienberg
CATEGORIES:Region
ATTACH;FMTTYPE=image/png:https://enter-kulturregion.de/wp-content/uploads/2025/03/Bildschirmfoto-2025-03-17-um-18.04.09.png
END:VEVENT
BEGIN:VEVENT
DTSTART;TZID=Europe/Berlin:20260804T100000
DTEND;TZID=Europe/Berlin:20260807T140000
DTSTAMP:20260425T135104
CREATED:20260324T151031Z
LAST-MODIFIED:20260424T083023Z
UID:8350-1785837600-1786111200@enter-kulturregion.de
SUMMARY:Gestaltungworkshop: Tufting – Von der Idee zum Produkt
DESCRIPTION:📌 Gestaltungworkshop – Tufting (Von der Idee zum Produkt) \nIn diesem hands-on Gestaltungsworkshop begleiten wir deinen Prozess von der ersten Idee bis zum fertigen Produkt. Ihr entwickelt ein eigenes Motiv\, bringt es in eine gestalterische Form und setzt eure Idee mit der Tufting-Technik um. Der Workshop verbindet kreatives Experimentieren mit Material\, Farbe und einer großartigen Technik.  Vorkenntnisse oder Vorbereitung sind nicht erforderlich! Dieser Workshop richtet sich an 18 – 29 Jährige. Kleine Snacks und Getränke sind vorhanden.   \nWann: 04.08 – 07.08.2026 I 10:00 – 14:00 Uhr\nWo: 📍 Alte Brauerei (Geyersdorfer Straße 34\, 09456 Annaberg-Buchholz)\nTeilnahme: Limitierte Plätze (Anmeldung erforderlich) – https://pretix.eu/enter/tufting
URL:https://enter-kulturregion.de/event/enter-akademie-gestaltungworkshop-tufting-von-der-idee-zum-produkt/
LOCATION:Alte Brauerei Annaberg-Buchholz\, Geyersdorfer Straße 34\, Annaberg-Buchholz\, Sachsen\, 09456
CATEGORIES:Akademie
ATTACH;FMTTYPE=image/png:https://enter-kulturregion.de/wp-content/uploads/2026/03/260213-AKD-Sticker.png
END:VEVENT
BEGIN:VEVENT
DTSTART;TZID=Europe/Berlin:20260917T140000
DTEND;TZID=Europe/Berlin:20260917T170000
DTSTAMP:20260425T135104
CREATED:20260424T083714Z
LAST-MODIFIED:20260424T095649Z
UID:8518-1789653600-1789664400@enter-kulturregion.de
SUMMARY:Workshop: How to Storytelling?
DESCRIPTION:Am Ende ist es immer nur eine gute Geschichte\n\nIn diesem Workshop mit Anne Krauß (Unternehmerin & Kommunikationsdesignerin) dreht sich alles um die entscheidende Frage\, wie man aus einer Idee eine lebendige Geschichte macht. Im praktischen Workshop erfährst du\, wie du deine individuellen Visionen in geschickte Narrative verwandelst\, die deine Zielgruppe emotional erreichen\, nachhaltig beeindrucken und wirklich in den Köpfen bleibt. \nDabei geht es nicht nur um den kreativen Funken\, sondern vor allem um die praktische Anwendung im Marketing. Du lernst\, wie du Geschichten mit den richtigen Tools und einem soliden Plan systematisch aufbaust und verbreitest\, damit deine Botschaft nicht untergeht. \nAnne Krauß zeigt dir Schritt für Schritt\, wie du Struktur in deine Gedanken bringst und Marketing-Werkzeuge effizient nutzt\, um deine Marke oder dein Projekt authentisch und professionell zu präsentieren. Dieser Workshop schlägt die Brücke zwischen dem Handwerk des Erzählens und der strategischen Planung\, sodass du am Ende nicht nur eine gute Geschichte hast\, sondern auch das Wissen\, wie du sie erfolgreich in die Welt trägst. \n  \n\nAnmeldung unter pretix.eu/enter/howtostorytell
URL:https://enter-kulturregion.de/event/how-to-storytelling/
LOCATION:enter – Junge Kulturregion (Reichenhainerstr. 1\, 09111 Chemnitz)
CATEGORIES:Akademie
ATTACH;FMTTYPE=image/png:https://enter-kulturregion.de/wp-content/uploads/2026/03/260213-AKD-Sticker.png
END:VEVENT
BEGIN:VEVENT
DTSTART;TZID=Europe/Berlin:20261001T170000
DTEND;TZID=Europe/Berlin:20261001T190000
DTSTAMP:20260425T135104
CREATED:20260422T105630Z
LAST-MODIFIED:20260424T081811Z
UID:8500-1790874000-1790881200@enter-kulturregion.de
SUMMARY:Workshop: How to Business?
DESCRIPTION:Dein Workshop in die erste Selbstständigkeit.\nDu brauchst eine gute Idee und willst endlich loslegen\, aber die vielen Business-Fragen bremsen dich aus? In diesem kompakten Workshop bekommst du einen verständlichen\, praxisnahen Einstieg in die Grundlagen der Selbstständigkeit\, ganz ohne kompliziertes Fachchinesisch. Mit Manja Hartmann von der IHK Chemnitz an deiner Seite wird selbst das vermeintlich trockene Thema greifbar\, verständlich und direkt anwendbar. \nDu lernst\, welche Gründungsformen es gibt und was für dich sinnvoll sein kann\, verstehst den Unterschied zwischen Kleinunternehmerregelung und Mehrwertsteuer und bekommst ein Gefühl dafür\, wie du deine Kosten realistisch kalkulierst. Außerdem erfährst du\, wie du eine einfache\, korrekte Rechnung schreibst und worauf du dabei achten musst. \nDer Workshop richtet sich an junge Menschen zwischen 18 und 29 Jahren aus Chemnitz und der Region\, die in der Kultur- und Kreativwirtschaft eigene Projekte umsetzen oder den Schritt in die Selbstständigkeit gehen wollen. \nAm Ende des Workshops hast du mehr Klarheit über deine nächsten Schritte und das nötige Grundwissen\, um deine Idee auch organisatorisch auf erste Beine zu stellen. \nBitte bring zum Workshop deinen eigenen Rechner mit. \nAnmeldung unter pretix.eu/enter/howtobusiness
URL:https://enter-kulturregion.de/event/how-to-business/
LOCATION:enter – Junge Kulturregion (Reichenhainerstr. 1\, 09111 Chemnitz)
CATEGORIES:Akademie
ATTACH;FMTTYPE=image/png:https://enter-kulturregion.de/wp-content/uploads/2026/03/260213-AKD-Sticker.png
END:VEVENT
BEGIN:VEVENT
DTSTART;TZID=Europe/Berlin:20261002T100000
DTEND;TZID=Europe/Berlin:20261002T150000
DTSTAMP:20260425T135104
CREATED:20260421T093436Z
LAST-MODIFIED:20260424T082345Z
UID:8480-1790935200-1790953200@enter-kulturregion.de
SUMMARY:Workshop: How to Canva? Einstieg ins Gestaltungstool
DESCRIPTION:Canva-Workshop: Deine Ideen professionell gestalten\nDu hast eine Idee\, ein Projekt\, einen Verein oder willst dich selbstständig machen\, aber dir fehlen passende Templates und Gestaltungsmittel für Social Media\, Präsentationen oder Flyer? In diesem praxisnahen Workshop lernst du\, wie du mit dem Werkzeug Canva schnell und einfach professionelle Layouts erstellst. \nGemeinsam mit Designerin Judith Schöpke lernst du die Grundlagen des Tools kennen und setzt deine eigenen Ideen direkt um. Du erarbeitest deine Vorlagen\, passt sie an und entwickelst erste eigene Templates\, die du für dein Vorhaben brauchst. Hier geht es nicht nur ums Lernen\, sondern ums Machen\, mit konkreten Ergebnissen\, die du direkt weiterverwenden kannst.\n  Im Workshop bekommst du eine Einführung in die Funktionen und Möglichkeiten von Canva und gestaltest eigene Social Media Posts\, Präsentationen oder einfache Printprodukte. Du erhältst ein Gefühl für dein Layout\, Farben und Typografie und wirst individuell bei der Umsetzung deiner Vorlagen unterstützt und erhältst professionelle Gestaltungstipps.\n  Der Workshop richtet sich an junge Menschen zwischen 18 und 29 Jahren aus Chemnitz und der Region\, die in der Kultur- und Kreativwirtschaft aktiv sind oder es werden wollen – egal ob du gerade erst anfängst oder schon an einem Projekt arbeitest.\nAm Ende des Tages hast du eigene Templates und Vorlagen entwickelt\, die dir helfen\, sichtbarer und professioneller aufzutreten.\n  Bitte bring deinen Laptop mit. Wenn du bereits etwas hast\, auch gern dein Logo (z. B. als PNG oder PDF) sowie deine Farben oder dein bestehendes Erscheinungsbild.\nAnmeldung unter pretix.eu/enter/howtocanva
URL:https://enter-kulturregion.de/event/how-to-canva/
LOCATION:enter – Junge Kulturregion (Reichenhainerstr. 1\, 09111 Chemnitz)
CATEGORIES:Akademie
ATTACH;FMTTYPE=image/png:https://enter-kulturregion.de/wp-content/uploads/2026/03/260213-AKD-Sticker.png
END:VEVENT
END:VCALENDAR