BEGIN:VCALENDAR
VERSION:2.0
PRODID:-//enter-kulturregion.de - ECPv6.15.13//NONSGML v1.0//EN
CALSCALE:GREGORIAN
METHOD:PUBLISH
X-WR-CALNAME:enter-kulturregion.de
X-ORIGINAL-URL:https://enter-kulturregion.de
X-WR-CALDESC:Veranstaltungen für enter-kulturregion.de
REFRESH-INTERVAL;VALUE=DURATION:PT1H
X-Robots-Tag:noindex
X-PUBLISHED-TTL:PT1H
BEGIN:VTIMEZONE
TZID:Europe/Berlin
BEGIN:DAYLIGHT
TZOFFSETFROM:+0100
TZOFFSETTO:+0200
TZNAME:CEST
DTSTART:20250330T010000
END:DAYLIGHT
BEGIN:STANDARD
TZOFFSETFROM:+0200
TZOFFSETTO:+0100
TZNAME:CET
DTSTART:20251026T010000
END:STANDARD
BEGIN:DAYLIGHT
TZOFFSETFROM:+0100
TZOFFSETTO:+0200
TZNAME:CEST
DTSTART:20260329T010000
END:DAYLIGHT
BEGIN:STANDARD
TZOFFSETFROM:+0200
TZOFFSETTO:+0100
TZNAME:CET
DTSTART:20261025T010000
END:STANDARD
BEGIN:DAYLIGHT
TZOFFSETFROM:+0100
TZOFFSETTO:+0200
TZNAME:CEST
DTSTART:20270328T010000
END:DAYLIGHT
BEGIN:STANDARD
TZOFFSETFROM:+0200
TZOFFSETTO:+0100
TZNAME:CET
DTSTART:20271031T010000
END:STANDARD
END:VTIMEZONE
BEGIN:VEVENT
DTSTART;TZID=Europe/Berlin:20260225T160000
DTEND;TZID=Europe/Berlin:20260225T183000
DTSTAMP:20260425T182909
CREATED:20260123T083452Z
LAST-MODIFIED:20260123T083452Z
UID:8227-1772035200-1772044200@enter-kulturregion.de
SUMMARY:enter the music: Community Music Workshop
DESCRIPTION:📌 25.02. – Community Music Workshop \nJammen\, ausprobieren\, loslegen!\nVerschiedene Instrumente testen – keine Vorkenntnisse nötig – und am Ende gemeinsam einen Song spielen. \nWann:  Fr\, 25.02.2026 · 16 – 18:30 Uhr\nWo: 📍 Jugendclub Compact\, Alfred-Neubert-Str. 9\, 09123 Chemnitz\nMit: Paper Lantern Collective Chemnitz
URL:https://enter-kulturregion.de/event/enter-the-music-community-music-workshop/
LOCATION:Jugendclub Compact\, Alfred-Neubert-Str. 9\, Chemnitz\, Sachsen\, 09123
CATEGORIES:Chemnitz
END:VEVENT
END:VCALENDAR